BEGIN:VCALENDAR
VERSION:2.0
PRODID:-//Plone.org//NONSGML plone.app.event//EN
X-WR-TIMEZONE:Europe/Madrid
BEGIN:VEVENT
SUMMARY:Cinema familiar: "Lorax. En busca de la trúfula perdida"
DTSTART;TZID=Europe/Madrid;VALUE=DATE-TIME:20121021T180000
DTEND;TZID=Europe/Madrid;VALUE=DATE-TIME:20121021T190000
DTSTAMP;VALUE=DATE-TIME:20260421T194635Z
UID:cbdcd3d172290415151ff40a5067230c
CREATED;VALUE=DATE-TIME:20121021T000000Z
CATEGORIES:Cinema,Agenda cultural,Infantils
LOCATION:Centre Cívic El Gorg - Riera del Gorg, s/n
ORGANIZER:Regidoria de Cultura
COMMENT:Preu: 2 euros
URL:https://www.svmontalt.cat/document.php?id=6465
END:VEVENT
END:VCALENDAR