BEGIN:VCALENDAR
VERSION:2.0
PRODID:-//Plone.org//NONSGML plone.app.event//EN
X-WR-TIMEZONE:Europe/Madrid
BEGIN:VEVENT
SUMMARY:Diumenge, vine a ballar al Cívic i ... celebra la Castanyada!
DTSTART;TZID=Europe/Madrid;VALUE=DATE-TIME:20121028T180000
DTEND;TZID=Europe/Madrid;VALUE=DATE-TIME:20121028T190000
DTSTAMP;VALUE=DATE-TIME:20260420T141204Z
UID:d3a61c02d983fa15f89663aa206f0d15
CREATED;VALUE=DATE-TIME:20121028T000000Z
CATEGORIES:Dansa,Agenda cultural
LOCATION:Centre Cívic El Gorg - Riera del Gorg, s/n
ORGANIZER:Associació de Gent Gran Els Xurravins
COMMENT:Preu: 10 euros
DESCRIPTION:A càrrec d'Antoni Bertran
URL:https://www.svmontalt.cat/document.php?id=6470
END:VEVENT
END:VCALENDAR