BEGIN:VCALENDAR
VERSION:2.0
PRODID:-//Plone.org//NONSGML plone.app.event//EN
X-WR-TIMEZONE:Europe/Madrid
BEGIN:VEVENT
SUMMARY:Curs d'anglès per a viatjar
DTSTART;TZID=Europe/Madrid;VALUE=DATE-TIME:20121024T150000
DTEND;TZID=Europe/Madrid;VALUE=DATE-TIME:20121024T160000
DTSTAMP;VALUE=DATE-TIME:20260424T135154Z
UID:e8d72fbb75b4b63e223ee1e1e0863a6b
CREATED;VALUE=DATE-TIME:20121024T000000Z
CATEGORIES:Cursos,Agenda cultural
LOCATION:Centre Cívic El Gorg - Riera del Gorg, s/n
ORGANIZER:Regidoria de Cultura
COMMENT:Durada: De 15 a 16.30h
URL:https://www.svmontalt.cat/document.php?id=6479
END:VEVENT
END:VCALENDAR