BEGIN:VCALENDAR
VERSION:2.0
PRODID:-//Plone.org//NONSGML plone.app.event//EN
X-WR-TIMEZONE:Europe/Madrid
BEGIN:VEVENT
SUMMARY:Taller complementari d'"ActivaLaMent"
DTSTART;TZID=Europe/Madrid;VALUE=DATE-TIME:20121019T180000
DTEND;TZID=Europe/Madrid;VALUE=DATE-TIME:20121019T190000
DTSTAMP;VALUE=DATE-TIME:20260420T053628Z
UID:ebf87dc1c4aaa52a3b2a71aa9f7e0d70
CREATED;VALUE=DATE-TIME:20121019T000000Z
CATEGORIES:Cursos,Agenda cultural
LOCATION:Centre Cívic El Gorg - Riera del Gorg, s/n
ORGANIZER:Associació de Gent Gran Els Xurravins amb el suport de Fundació "la Caixa"
COMMENT:Preu: Gratuït
DESCRIPTION:Impartit per Sílvia Sánchez
URL:https://www.svmontalt.cat/document.php?id=6490
END:VEVENT
END:VCALENDAR