BEGIN:VCALENDAR
VERSION:2.0
PRODID:-//Plone.org//NONSGML plone.app.event//EN
X-WR-TIMEZONE:Europe/Madrid
BEGIN:VEVENT
SUMMARY:Taller complementari d'"ActivaLaMent"
DTSTART;TZID=Europe/Madrid;VALUE=DATE-TIME:20121109T180000
DTEND;TZID=Europe/Madrid;VALUE=DATE-TIME:20121109T190000
DTSTAMP;VALUE=DATE-TIME:20260420T010820Z
UID:203fc0be81aacb8c5ae3f370331fd254
CREATED;VALUE=DATE-TIME:20121109T000000Z
CATEGORIES:Cursos,Agenda cultural
LOCATION:Centre Cívic El Gorg - Riera del Gorg, s/n
ORGANIZER:Associació de Gent Gran Els Xurravins amb el suport de Fundació "la Caixa"
COMMENT:Preu: Gratuït
DESCRIPTION:Impartit per Sílvia Sánchez
URL:https://www.svmontalt.cat/document.php?id=6491
END:VEVENT
END:VCALENDAR