BEGIN:VCALENDAR
VERSION:2.0
PRODID:-//Plone.org//NONSGML plone.app.event//EN
X-WR-TIMEZONE:Europe/Madrid
BEGIN:VEVENT
SUMMARY:Taller complementari d'"ActivaLaMent"
DTSTART;TZID=Europe/Madrid;VALUE=DATE-TIME:20121116T180000
DTEND;TZID=Europe/Madrid;VALUE=DATE-TIME:20121116T190000
DTSTAMP;VALUE=DATE-TIME:20260423T114130Z
UID:d0f49d21a6e9afdc5f6af44907fbf896
CREATED;VALUE=DATE-TIME:20121116T000000Z
CATEGORIES:Cursos,Agenda cultural
LOCATION:Centre Cívic El Gorg - Riera del Gorg, s/n
ORGANIZER:Associació de Gent Gran Els Xurravins amb el suport de Fundació "la Caixa"
COMMENT:Preu: Gratuït
DESCRIPTION:Impartit per Sílvia Sánchez
URL:https://www.svmontalt.cat/document.php?id=6492
END:VEVENT
END:VCALENDAR