BEGIN:VCALENDAR
VERSION:2.0
PRODID:-//Plone.org//NONSGML plone.app.event//EN
X-WR-TIMEZONE:Europe/Madrid
BEGIN:VEVENT
SUMMARY:Curs de català
DTSTART;TZID=Europe/Madrid;VALUE=DATE-TIME:20121017T100000
DTEND;TZID=Europe/Madrid;VALUE=DATE-TIME:20121017T110000
DTSTAMP;VALUE=DATE-TIME:20260422T035351Z
UID:e245f19746bd31bae95b9771b9c68583
CREATED;VALUE=DATE-TIME:20121017T000000Z
CATEGORIES:Cursos,Agenda cultural
LOCATION:Centre Cívic El Gorg - Riera del Gorg, s/n
ORGANIZER:Associació de Gent Gran Els Xurravins
URL:https://www.svmontalt.cat/document.php?id=6496
END:VEVENT
END:VCALENDAR