BEGIN:VCALENDAR
VERSION:2.0
PRODID:-//Plone.org//NONSGML plone.app.event//EN
X-WR-TIMEZONE:Europe/Madrid
BEGIN:VEVENT
SUMMARY:Curs gratuït de disseny web per a joves
DTSTART;TZID=Europe/Madrid;VALUE=DATE-TIME:20121024T170000
DTEND;TZID=Europe/Madrid;VALUE=DATE-TIME:20121024T180000
DTSTAMP;VALUE=DATE-TIME:20260424T135118Z
UID:e8be048e606d286677ba9854d95ed8ff
CREATED;VALUE=DATE-TIME:20121024T000000Z
CATEGORIES:Cursos,Agenda cultural
LOCATION:Centre Cívic El Gorg - Riera del Gorg, s/n
ORGANIZER:Regidories de Joventut i Promoció Econòmica
COMMENT:Preu: Gratuït
DESCRIPTION:Cal inscripció prèvia
URL:https://www.svmontalt.cat/document.php?id=6508
END:VEVENT
END:VCALENDAR