BEGIN:VCALENDAR
VERSION:2.0
PRODID:-//Plone.org//NONSGML plone.app.event//EN
X-WR-TIMEZONE:Europe/Madrid
BEGIN:VEVENT
SUMMARY:Taller: "Reconeixem i connectem amb la nostra essència"
DTSTART;TZID=Europe/Madrid;VALUE=DATE-TIME:20121116T190000
DTEND;TZID=Europe/Madrid;VALUE=DATE-TIME:20121116T200000
DTSTAMP;VALUE=DATE-TIME:20260420T023919Z
UID:419295728dd2e9ab7791c3f41f66c331
CREATED;VALUE=DATE-TIME:20121116T000000Z
CATEGORIES:Cursos,Agenda cultural
LOCATION:Centre Cívic El Gorg - Riera del Gorg, s/n
ORGANIZER:Regidoria de Benestar Social i Montse Macanàs
COMMENT:Preu: Gratuït
DESCRIPTION:A càrrec de Montse Macanàs i Sandra González
URL:https://www.svmontalt.cat/document.php?id=6526
END:VEVENT
END:VCALENDAR