BEGIN:VCALENDAR
VERSION:2.0
PRODID:-//Plone.org//NONSGML plone.app.event//EN
X-WR-TIMEZONE:Europe/Madrid
BEGIN:VEVENT
SUMMARY:Xerrada sobre la normativa hipotecària i les seves conseqüències
DTSTART;TZID=Europe/Madrid;VALUE=DATE-TIME:20121024T193000
DTEND;TZID=Europe/Madrid;VALUE=DATE-TIME:20121024T203000
DTSTAMP;VALUE=DATE-TIME:20260424T135104Z
UID:b16289e1c5672bf647344a41f7702379
CREATED;VALUE=DATE-TIME:20121024T000000Z
CATEGORIES:Conferència,Agenda cultural
LOCATION:Centre Cívic El Gorg - Riera del Gorg, s/n
ORGANIZER:Ajuntament de Sant Vicenç de Montalt amb la col·laboració de la Plataforma d'Afectat per Hipoteques de Mataró
COMMENT:Preu: Gratuït
DESCRIPTION:A càrrec de Sebastià Tenés
URL:https://www.svmontalt.cat/document.php?id=6552
END:VEVENT
END:VCALENDAR