BEGIN:VCALENDAR
VERSION:2.0
PRODID:-//Plone.org//NONSGML plone.app.event//EN
X-WR-TIMEZONE:Europe/Madrid
BEGIN:VEVENT
SUMMARY:Cinema familiar: "Arthur Christmas. Operación regalo"
DTSTART;TZID=Europe/Madrid;VALUE=DATE-TIME:20121118T180000
DTEND;TZID=Europe/Madrid;VALUE=DATE-TIME:20121118T190000
DTSTAMP;VALUE=DATE-TIME:20260419T143039Z
UID:4b46bebc79cb8edb5ab24e50760ce3bc
CREATED;VALUE=DATE-TIME:20121118T000000Z
CATEGORIES:Cinema,Agenda cultural,Infantils
LOCATION:Centre Cívic El Gorg - Riera del Gorg, s/n
ORGANIZER:Regidoria de Cultura
COMMENT:Preu: 2 euros
URL:https://www.svmontalt.cat/document.php?id=6581
END:VEVENT
END:VCALENDAR