BEGIN:VCALENDAR
VERSION:2.0
PRODID:-//Plone.org//NONSGML plone.app.event//EN
X-WR-TIMEZONE:Europe/Madrid
BEGIN:VEVENT
SUMMARY:Curs gratuït de manipulador/a d'aliments
DTSTART;TZID=Europe/Madrid;VALUE=DATE-TIME:20121119T160000
DTEND;TZID=Europe/Madrid;VALUE=DATE-TIME:20121119T170000
DTSTAMP;VALUE=DATE-TIME:20260419T161100Z
UID:1406da1d2270c9a1d7fe11f70b123a7b
CREATED;VALUE=DATE-TIME:20121119T000000Z
CATEGORIES:Cursos,Agenda cultural
LOCATION:Centre Cívic El Gorg - Riera del Gorg, s/n
ORGANIZER:Regidoria de Sanitat, Salut Pública i Consum amb el suport de la Diputació de Barcelona
COMMENT:Preu: Gratuït
Durada: de 16 a 19h
DESCRIPTION:Cal inscripció prèvia
URL:https://www.svmontalt.cat/document.php?id=6582
END:VEVENT
END:VCALENDAR