BEGIN:VCALENDAR
VERSION:2.0
PRODID:-//Plone.org//NONSGML plone.app.event//EN
X-WR-TIMEZONE:Europe/Madrid
BEGIN:VEVENT
SUMMARY:Round table en anglès
DTSTART;TZID=Europe/Madrid;VALUE=DATE-TIME:20121130T190000
DTEND;TZID=Europe/Madrid;VALUE=DATE-TIME:20121130T200000
DTSTAMP;VALUE=DATE-TIME:20260422T114417Z
UID:8f852a1ec1548a54a61acf926c9f0ee2
CREATED;VALUE=DATE-TIME:20121130T000000Z
LOCATION:Centre Cívic El Gorg - Riera del Gorg, s/n
ORGANIZER:Biblioteca Municipal La Muntala
COMMENT:Preu: Gratuït
DESCRIPTION:A càrrec de Marions Fitzgerald
URL:https://www.svmontalt.cat/document.php?id=6584
END:VEVENT
END:VCALENDAR