BEGIN:VCALENDAR
VERSION:2.0
PRODID:-//Plone.org//NONSGML plone.app.event//EN
X-WR-TIMEZONE:Europe/Madrid
BEGIN:VEVENT
SUMMARY:Per Nadal, cada ovella al seu corral!
DTSTART;TZID=Europe/Madrid;VALUE=DATE-TIME:20121219T173000
DTEND;TZID=Europe/Madrid;VALUE=DATE-TIME:20121219T183000
DTSTAMP;VALUE=DATE-TIME:20260420T181036Z
UID:8dcaadd16bc866adaa5ba208a84a40da
CREATED;VALUE=DATE-TIME:20121219T000000Z
CATEGORIES:Infantils
LOCATION:Centre Cívic El Gorg - Riera del Gorg, s/n
ORGANIZER:Biblioteca Municipal La Muntala
COMMENT:Preu: Gratuït
DESCRIPTION:Contes i cançons nadalenques a càrrec de Toni López
URL:https://www.svmontalt.cat/document.php?id=6643
END:VEVENT
END:VCALENDAR