BEGIN:VCALENDAR
VERSION:2.0
PRODID:-//Plone.org//NONSGML plone.app.event//EN
X-WR-TIMEZONE:Europe/Madrid
BEGIN:VEVENT
SUMMARY:Festival de Nadal de l'escola Sot del Camp
DTSTART;TZID=Europe/Madrid;VALUE=DATE-TIME:20121220T103000
DTEND;TZID=Europe/Madrid;VALUE=DATE-TIME:20121220T113000
DTSTAMP;VALUE=DATE-TIME:20260422T032955Z
UID:a9a6220530c15295de52bdf46293ef31
CREATED;VALUE=DATE-TIME:20121220T000000Z
CATEGORIES:Festa,Agenda cultural
LOCATION:Centre Cívic El Gorg - Riera del Gorg, s/n
ORGANIZER:Escola Sot del Camp
COMMENT:Preu: Gratuït
URL:https://www.svmontalt.cat/document.php?id=6645
END:VEVENT
END:VCALENDAR