BEGIN:VCALENDAR
VERSION:2.0
PRODID:-//Plone.org//NONSGML plone.app.event//EN
X-WR-TIMEZONE:Europe/Madrid
BEGIN:VEVENT
SUMMARY:Festival de Nadal de l'escola Sant Jordi
DTSTART;TZID=Europe/Madrid;VALUE=DATE-TIME:20121221T100000
DTEND;TZID=Europe/Madrid;VALUE=DATE-TIME:20121221T110000
DTSTAMP;VALUE=DATE-TIME:20260422T080234Z
UID:1349b71a6e720df7d9f56b90dc71aad2
CREATED;VALUE=DATE-TIME:20121221T000000Z
CATEGORIES:Festa,Agenda cultural
LOCATION:Centre Cívic El Gorg - Riera del Gorg, s/n
ORGANIZER:Escola Sant Jordi
COMMENT:Preu: Gratuït
URL:https://www.svmontalt.cat/document.php?id=6646
END:VEVENT
END:VCALENDAR