BEGIN:VCALENDAR
VERSION:2.0
PRODID:-//Plone.org//NONSGML plone.app.event//EN
X-WR-TIMEZONE:Europe/Madrid
BEGIN:VEVENT
SUMMARY:Festival de Nadal de l'institut
DTSTART;TZID=Europe/Madrid;VALUE=DATE-TIME:20121221T120000
DTEND;TZID=Europe/Madrid;VALUE=DATE-TIME:20121221T130000
DTSTAMP;VALUE=DATE-TIME:20260422T050707Z
UID:176ac5b5d13e42b3b5e99bf1a9c02ee0
CREATED;VALUE=DATE-TIME:20121221T000000Z
CATEGORIES:Festa,Agenda cultural
LOCATION:Centre Cívic El Gorg - Riera del Gorg, s/n
ORGANIZER:Institut de Sant Vicenç de Montalt
COMMENT:Preu: Gratuït
URL:https://www.svmontalt.cat/document.php?id=6647
END:VEVENT
END:VCALENDAR