BEGIN:VCALENDAR
VERSION:2.0
PRODID:-//Plone.org//NONSGML plone.app.event//EN
X-WR-TIMEZONE:Europe/Madrid
BEGIN:VEVENT
SUMMARY:Taller d'escriptura
DTSTART;TZID=Europe/Madrid;VALUE=DATE-TIME:20130221T190000
DTEND;TZID=Europe/Madrid;VALUE=DATE-TIME:20130221T200000
DTSTAMP;VALUE=DATE-TIME:20260419T145703Z
UID:a9f387ccb839efd4db9ee52c3a8c71d7
CREATED;VALUE=DATE-TIME:20130221T000000Z
CATEGORIES:Literatura,Agenda cultural
LOCATION:Centre Cívic El Gorg - Riera del Gorg, s/n
ORGANIZER:Biblioteca Municipal La Muntala
COMMENT:Preu: Gratuït
URL:https://www.svmontalt.cat/document.php?id=6774
END:VEVENT
END:VCALENDAR