BEGIN:VCALENDAR
VERSION:2.0
PRODID:-//Plone.org//NONSGML plone.app.event//EN
X-WR-TIMEZONE:Europe/Madrid
BEGIN:VEVENT
SUMMARY:Rua de Carnestoltes de l'escola Sant Jordi
DTSTART;TZID=Europe/Madrid;VALUE=DATE-TIME:20130208T153000
DTEND;TZID=Europe/Madrid;VALUE=DATE-TIME:20130208T163000
DTSTAMP;VALUE=DATE-TIME:20260421T092727Z
UID:6bf5689711a5a795de8347c7b3cb8b47
CREATED;VALUE=DATE-TIME:20130208T000000Z
CATEGORIES:Festa,Agenda cultural
LOCATION:Escola Sant Jordi - C/ Escoles, 10
ORGANIZER:Escola Sant Jordi
COMMENT:Preu: Gratuït
URL:https://www.svmontalt.cat/document.php?id=6788
END:VEVENT
END:VCALENDAR