BEGIN:VCALENDAR
VERSION:2.0
PRODID:-//Plone.org//NONSGML plone.app.event//EN
X-WR-TIMEZONE:Europe/Madrid
BEGIN:VEVENT
SUMMARY:Taller d'escriptura
DTSTART;TZID=Europe/Madrid;VALUE=DATE-TIME:20130321T190000
DTEND;TZID=Europe/Madrid;VALUE=DATE-TIME:20130321T200000
DTSTAMP;VALUE=DATE-TIME:20260419T164605Z
UID:319cad454812a13997769e45d97ad936
CREATED;VALUE=DATE-TIME:20130321T000000Z
CATEGORIES:Literatura,Agenda cultural
LOCATION:Centre Cívic El Gorg - Riera del Gorg, s/n
ORGANIZER:Biblioteca Municipal La Muntala
COMMENT:Preu: Gratuït
URL:https://www.svmontalt.cat/document.php?id=6886
END:VEVENT
END:VCALENDAR