BEGIN:VCALENDAR
VERSION:2.0
PRODID:-//Plone.org//NONSGML plone.app.event//EN
X-WR-TIMEZONE:Europe/Madrid
BEGIN:VEVENT
SUMMARY:Taller: "Grans lectors"
DTSTART;TZID=Europe/Madrid;VALUE=DATE-TIME:20130618T200000
DTEND;TZID=Europe/Madrid;VALUE=DATE-TIME:20130618T210000
DTSTAMP;VALUE=DATE-TIME:20260419T175446Z
UID:72a9327bbf067ef8cfc62bb968ea7c2d
CREATED;VALUE=DATE-TIME:20130618T000000Z
CATEGORIES:Cursos,Agenda cultural
LOCATION:Casal de la Gent Gran Els Xurravins - Riera del Gorg, s/n
ORGANIZER:Associació de Gent Gran Els Xurravins amb el suport de Fundació "la Caixa"
COMMENT:Preu: Gratuït
DESCRIPTION:Impartit per Sílvia Sánchez
URL:https://www.svmontalt.cat/document.php?id=6978
END:VEVENT
END:VCALENDAR