BEGIN:VCALENDAR
VERSION:2.0
PRODID:-//Plone.org//NONSGML plone.app.event//EN
X-WR-TIMEZONE:Europe/Madrid
BEGIN:VEVENT
SUMMARY:Taller: "ActivaLaMent"
DTSTART;TZID=Europe/Madrid;VALUE=DATE-TIME:20130603T190000
DTEND;TZID=Europe/Madrid;VALUE=DATE-TIME:20130603T200000
DTSTAMP;VALUE=DATE-TIME:20260419T145332Z
UID:11e4ea3e9c79398149bfaf1d8c7a635d
CREATED;VALUE=DATE-TIME:20130603T000000Z
CATEGORIES:Cursos,Agenda cultural
LOCATION:Telecentre - Riera del Gorg, s/n
ORGANIZER:Associació de Gent Gran Els Xurravins amb el suport de Fundació "la Caixa"
COMMENT:Preu: Gratuït
DESCRIPTION:Impartit per Sílvia Sánchez
URL:https://www.svmontalt.cat/document.php?id=6987
END:VEVENT
END:VCALENDAR