BEGIN:VCALENDAR
VERSION:2.0
PRODID:-//Plone.org//NONSGML plone.app.event//EN
X-WR-TIMEZONE:Europe/Madrid
BEGIN:VEVENT
SUMMARY:Taller: "La xarxa, en el nostre dia a dia"
DTSTART;TZID=Europe/Madrid;VALUE=DATE-TIME:20130409T100000
DTEND;TZID=Europe/Madrid;VALUE=DATE-TIME:20130409T110000
DTSTAMP;VALUE=DATE-TIME:20260419T171936Z
UID:7657d2d74ba1a39008fb70b24975a3ac
CREATED;VALUE=DATE-TIME:20130409T000000Z
CATEGORIES:Cursos,Agenda cultural
LOCATION:Telecentre - Riera del Gorg, s/n
ORGANIZER:Associació de Gent Gran Els Xurravins amb el suport de Fundació &#147;la Caixa&#148;
COMMENT:Preu: Gratuït
Durada: El taller s'allargarà del 2 al 26 d'abril
DESCRIPTION:A càrrec de professors de la Universitat Politècnica de Catalunya
URL:https://www.svmontalt.cat/document.php?id=7010
END:VEVENT
END:VCALENDAR