BEGIN:VCALENDAR
VERSION:2.0
PRODID:-//Plone.org//NONSGML plone.app.event//EN
X-WR-TIMEZONE:Europe/Madrid
BEGIN:VEVENT
SUMMARY:Xerrada informativa sobre el 15è Campus de futbol
DTSTART;TZID=Europe/Madrid;VALUE=DATE-TIME:20130628T193000
DTEND;TZID=Europe/Madrid;VALUE=DATE-TIME:20130628T203000
DTSTAMP;VALUE=DATE-TIME:20260423T024302Z
UID:b2c5493dc452e9eb95ebf50949c280d0
CREATED;VALUE=DATE-TIME:20130628T000000Z
CATEGORIES:Esports
LOCATION:Centre Cívic El Gorg - Riera del Gorg, s/n
ORGANIZER:C.F. Santvicentí amb la col·laboració de la Regidoria d´Esports
COMMENT:Preu: Gratuït
URL:https://www.svmontalt.cat/document.php?id=7241
END:VEVENT
END:VCALENDAR