BEGIN:VCALENDAR
VERSION:2.0
PRODID:-//Plone.org//NONSGML plone.app.event//EN
X-WR-TIMEZONE:Europe/Madrid
BEGIN:VEVENT
SUMMARY:Missa i dinar de germanor en honor de la gent gran
DTSTART;TZID=Europe/Madrid;VALUE=DATE-TIME:20130703T230000
DTEND;TZID=Europe/Madrid;VALUE=DATE-TIME:20130704T000000
DTSTAMP;VALUE=DATE-TIME:20260423T181730Z
UID:2049e3681a3fc641de00f22387114e6e
CREATED;VALUE=DATE-TIME:20130703T000000Z
CATEGORIES:Festa,Agenda cultural
LOCATION:Església de Sant Vicenç - Plaça de l'Esglèsia, s/n
ORGANIZER:Ajuntament de Sant Vicenç de Montalt amb la col·laboració de la Parròquia de Sant Vicenç, Orfeó Parroquial i Restaurant Castell de l'Oliver
COMMENT:Preu: Gratuït
DESCRIPTION:4a Setmana de la Gent Gran
URL:https://www.svmontalt.cat/document.php?id=7358
END:VEVENT
END:VCALENDAR