BEGIN:VCALENDAR
VERSION:2.0
PRODID:-//Plone.org//NONSGML plone.app.event//EN
X-WR-TIMEZONE:Europe/Madrid
BEGIN:VEVENT
SUMMARY:Xerrada sobre subministraments a les llars i economia domèstica
DTSTART;TZID=Europe/Madrid;VALUE=DATE-TIME:20130628T170000
DTEND;TZID=Europe/Madrid;VALUE=DATE-TIME:20130628T180000
DTSTAMP;VALUE=DATE-TIME:20260421T224042Z
UID:92b66f4fc2dee9b3460a5f229055f863
CREATED;VALUE=DATE-TIME:20130628T000000Z
CATEGORIES:Conferència,Agenda cultural
LOCATION:Casal de la Gent Gran Els Xurravins - Riera del Gorg, s/n
ORGANIZER:Regidoria de Medi Ambient amb la col·laboració de l'Associació de Gent Gran Els Xurravins i el suport de la Diputació de Barcelona i l'Institut Català de l'Energia
COMMENT:Preu: Gratuït
DESCRIPTION:Setmana Europea de l'Energia Sostenible 2013
URL:https://www.svmontalt.cat/document.php?id=7363
END:VEVENT
END:VCALENDAR