BEGIN:VCALENDAR
VERSION:2.0
PRODID:-//Plone.org//NONSGML plone.app.event//EN
X-WR-TIMEZONE:Europe/Madrid
BEGIN:VEVENT
SUMMARY:Exposició de treballs de pintura i patchwork
DTSTART;TZID=Europe/Madrid;VALUE=DATE-TIME:20130719T100000
DTEND;TZID=Europe/Madrid;VALUE=DATE-TIME:20130719T110000
DTSTAMP;VALUE=DATE-TIME:20260421T015541Z
UID:b10022078dd87abd7658726bfb0705a5
CREATED;VALUE=DATE-TIME:20130719T000000Z
CATEGORIES:Exposició,Agenda cultural
LOCATION:Centre Cívic El Gorg - Riera del Gorg, s/n
ORGANIZER:Associació de Gent Gran Els Xurravins
COMMENT:Preu: GratuÏt
DESCRIPTION:4a setmana de la Gent Gran
URL:https://www.svmontalt.cat/document.php?id=7366
END:VEVENT
END:VCALENDAR