BEGIN:VCALENDAR
VERSION:2.0
PRODID:-//Plone.org//NONSGML plone.app.event//EN
X-WR-TIMEZONE:Europe/Madrid
BEGIN:VEVENT
SUMMARY:Lliurament de premis del 6è Concurs de fotografia &#147;Un tastet de Sant Vicenç 2013&#148;
DTSTART;TZID=Europe/Madrid;VALUE=DATE-TIME:20130713T180000
DTEND;TZID=Europe/Madrid;VALUE=DATE-TIME:20130713T190000
DTSTAMP;VALUE=DATE-TIME:20260420T223816Z
UID:bcaabced5d20629a93519d86b1560d7f
CREATED;VALUE=DATE-TIME:20130713T000000Z
CATEGORIES:Exposició,Agenda cultural
LOCATION:Centre Cívic El Gorg - Riera del Gorg, s/n
ORGANIZER:Regidoria de Cultura
COMMENT:Preu: Gratuït
URL:https://www.svmontalt.cat/document.php?id=7382
END:VEVENT
END:VCALENDAR