BEGIN:VCALENDAR
VERSION:2.0
PRODID:-//Plone.org//NONSGML plone.app.event//EN
X-WR-TIMEZONE:Europe/Madrid
BEGIN:VEVENT
SUMMARY:Exposició de fotografies &#147;Un tastet de Sant Vicenç 2013&#148;
DTSTART;TZID=Europe/Madrid;VALUE=DATE-TIME:20130731T100000
DTEND;TZID=Europe/Madrid;VALUE=DATE-TIME:20130731T110000
DTSTAMP;VALUE=DATE-TIME:20260421T020249Z
UID:2b0e6bfaf2cbfc3bb954a457a404cef9
CREATED;VALUE=DATE-TIME:20130731T000000Z
CATEGORIES:Exposició,Agenda cultural
ORGANIZER:Regidoria de Cultura amb la col·laboració de Centre de Jardineria Arqué
COMMENT:Preu: Gratuït
Durada: Oberta fins al 31 de juliol
DESCRIPTION:Del 13 al 31 de juliol
URL:https://www.svmontalt.cat/document.php?id=7383
END:VEVENT
END:VCALENDAR