BEGIN:VCALENDAR
VERSION:2.0
PRODID:-//Plone.org//NONSGML plone.app.event//EN
X-WR-TIMEZONE:Europe/Madrid
BEGIN:VEVENT
SUMMARY:Repicada de campanes i petardada
DTSTART;TZID=Europe/Madrid;VALUE=DATE-TIME:20130815T100000
DTEND;TZID=Europe/Madrid;VALUE=DATE-TIME:20130815T110000
DTSTAMP;VALUE=DATE-TIME:20260421T190222Z
UID:e85db8b27c02250bad958eaf7606ba5e
CREATED;VALUE=DATE-TIME:20130815T000000Z
CATEGORIES:Festa,Agenda cultural
LOCATION:Església de Sant Vicenç - Plaça de l'Esglèsia, s/n
ORGANIZER:Parròquia de Sant Vicenç
COMMENT:Preu: Gratuït
DESCRIPTION:Anunciant la Festa Major
URL:https://www.svmontalt.cat/document.php?id=7453
END:VEVENT
END:VCALENDAR