BEGIN:VCALENDAR
VERSION:2.0
PRODID:-//Plone.org//NONSGML plone.app.event//EN
X-WR-TIMEZONE:Europe/Madrid
BEGIN:VEVENT
SUMMARY:Ofici en honor a la Mare de Déu de l'Assumpció
DTSTART;TZID=Europe/Madrid;VALUE=DATE-TIME:20130815T110000
DTEND;TZID=Europe/Madrid;VALUE=DATE-TIME:20130815T120000
DTSTAMP;VALUE=DATE-TIME:20260420T194558Z
UID:a0d8d903f2b248e978c49ba999cb1e4b
CREATED;VALUE=DATE-TIME:20130815T000000Z
CATEGORIES:Festa,Agenda cultural
LOCATION:Església de Sant Vicenç - Plaça de l'Esglèsia, s/n
ORGANIZER:Regidoria de Cultura amb la col·laboració de la Parròquia de Sant Vicenç i l'Orfeó Parroquial El Delme
COMMENT:Preu: Gratuït
DESCRIPTION:Amb la participació de l'Orfeó Parroquial El Delme
URL:https://www.svmontalt.cat/document.php?id=7455
END:VEVENT
END:VCALENDAR