BEGIN:VCALENDAR
VERSION:2.0
PRODID:-//Plone.org//NONSGML plone.app.event//EN
X-WR-TIMEZONE:Europe/Madrid
BEGIN:VEVENT
SUMMARY:Acte institucional amb motiu de la Diada Nacional de Catalunya
DTSTART;TZID=Europe/Madrid;VALUE=DATE-TIME:20130911T120000
DTEND;TZID=Europe/Madrid;VALUE=DATE-TIME:20130911T130000
DTSTAMP;VALUE=DATE-TIME:20260423T194818Z
UID:01a75d7be9b4fc6162d195646cf336b8
CREATED;VALUE=DATE-TIME:20130911T000000Z
CATEGORIES:Festa,Agenda cultural
LOCATION:Avinguda Onze de Setembre, s/n - Av. Onze de Setembre, s/n
ORGANIZER:Ajuntament de Sant Vicenç de Montalt; hi col·laboren: Colla de Geganters de Sant Vicenç i Orfeó Parroquial El Delme
COMMENT:Preu: Gratuït
URL:https://www.svmontalt.cat/document.php?id=7469
END:VEVENT
END:VCALENDAR