BEGIN:VCALENDAR
VERSION:2.0
PRODID:-//Plone.org//NONSGML plone.app.event//EN
X-WR-TIMEZONE:Europe/Madrid
BEGIN:VEVENT
SUMMARY:Diumenge, vine a ballar i ... a celebrar la Castanyada al Cívic!
DTSTART;TZID=Europe/Madrid;VALUE=DATE-TIME:20131027T180000
DTEND;TZID=Europe/Madrid;VALUE=DATE-TIME:20131027T190000
DTSTAMP;VALUE=DATE-TIME:20260424T113739Z
UID:8645e5c8267770eb3401d4a7f0b19002
CREATED;VALUE=DATE-TIME:20131027T000000Z
CATEGORIES:Dansa,Agenda cultural
LOCATION:Centre Cívic El Gorg - Riera del Gorg, s/n
ORGANIZER:Associació de Gent Gran Els Xurravins
COMMENT:Preu: 10 euros/parella - Inscripció prèvia al Centre Cívic El Gorg, a partir del 15 d'octubre, de dilluns a divendres, de 10 a 13h.
DESCRIPTION:A càrrec d'Antoni Bertran
URL:https://www.svmontalt.cat/document.php?id=7552
END:VEVENT
END:VCALENDAR