BEGIN:VCALENDAR
VERSION:2.0
PRODID:-//Plone.org//NONSGML plone.app.event//EN
X-WR-TIMEZONE:Europe/Madrid
BEGIN:VEVENT
SUMMARY:Activalament
DTSTART;TZID=Europe/Madrid;VALUE=DATE-TIME:20131007T190000
DTEND;TZID=Europe/Madrid;VALUE=DATE-TIME:20131007T200000
DTSTAMP;VALUE=DATE-TIME:20260423T114254Z
UID:4d4b6156f13a97b1b15c827bc386c4df
CREATED;VALUE=DATE-TIME:20131007T000000Z
CATEGORIES:Cursos,Agenda cultural
LOCATION:Centre Cívic El Gorg - Riera del Gorg, s/n
ORGANIZER:Associació de Gent Gran Els Xurravins amb el suport de Fundació "la Caixa"
COMMENT:Preu: Gratuït
Durada: Del 7 d'octubre al 4 de novembre
DESCRIPTION:Grup pseudoautònom
URL:https://www.svmontalt.cat/document.php?id=7584
END:VEVENT
END:VCALENDAR