BEGIN:VCALENDAR
VERSION:2.0
PRODID:-//Plone.org//NONSGML plone.app.event//EN
X-WR-TIMEZONE:Europe/Madrid
BEGIN:VEVENT
SUMMARY:Activalament
DTSTART;TZID=Europe/Madrid;VALUE=DATE-TIME:20131009T190000
DTEND;TZID=Europe/Madrid;VALUE=DATE-TIME:20131009T200000
DTSTAMP;VALUE=DATE-TIME:20260420T181454Z
UID:8a335f40d7e50b37d5151390291022c3
CREATED;VALUE=DATE-TIME:20131009T000000Z
CATEGORIES:Cursos,Agenda cultural
LOCATION:Centre Cívic El Gorg - Riera del Gorg, s/n
ORGANIZER:Associació de Gent Gran Els Xurravins amb el suport de Fundació "la Caixa"
COMMENT:Preu: Gratuït
Durada: Del 9 d'octubre a l'11 de desembre
DESCRIPTION:Grup d'iniciació
URL:https://www.svmontalt.cat/document.php?id=7589
END:VEVENT
END:VCALENDAR