BEGIN:VCALENDAR
VERSION:2.0
PRODID:-//Plone.org//NONSGML plone.app.event//EN
X-WR-TIMEZONE:Europe/Madrid
BEGIN:VEVENT
SUMMARY:Creació de projectes digitals II
DTSTART;TZID=Europe/Madrid;VALUE=DATE-TIME:20131111T100000
DTEND;TZID=Europe/Madrid;VALUE=DATE-TIME:20131111T110000
DTSTAMP;VALUE=DATE-TIME:20260419T222729Z
UID:ca4282202e2eafbd88c7de24060e9fb9
CREATED;VALUE=DATE-TIME:20131111T000000Z
CATEGORIES:Cursos,Agenda cultural
LOCATION:Telecentre - Riera del Gorg, s/n
ORGANIZER:Associació de Gent Gran Els Xurravins amb el suport de Fundació "la Caixa"
COMMENT:Preu: Gratuït
Durada: De l'11 de novembre al 12 de desembre
DESCRIPTION:A càrrec de professors de la Universitat Politècnica de Catalunya
URL:https://www.svmontalt.cat/document.php?id=7626
END:VEVENT
END:VCALENDAR