BEGIN:VCALENDAR
VERSION:2.0
PRODID:-//Plone.org//NONSGML plone.app.event//EN
X-WR-TIMEZONE:Europe/Madrid
BEGIN:VEVENT
SUMMARY:Curs de català
DTSTART;TZID=Europe/Madrid;VALUE=DATE-TIME:20131127T100000
DTEND;TZID=Europe/Madrid;VALUE=DATE-TIME:20131127T110000
DTSTAMP;VALUE=DATE-TIME:20260424T102112Z
UID:af8ea4b04dc9c1aad7a4f72f36e679d2
CREATED;VALUE=DATE-TIME:20131127T000000Z
CATEGORIES:Cursos,Agenda cultural
LOCATION:Centre Cívic El Gorg - Riera del Gorg, s/n
ORGANIZER:Associació de Gent Gran Els Xurravins
COMMENT:Durada: Del 2 d'octubre al 4 de desembre
URL:https://www.svmontalt.cat/document.php?id=7660
END:VEVENT
END:VCALENDAR