BEGIN:VCALENDAR
VERSION:2.0
PRODID:-//Plone.org//NONSGML plone.app.event//EN
X-WR-TIMEZONE:Europe/Madrid
BEGIN:VEVENT
SUMMARY:Curs de francès
DTSTART;TZID=Europe/Madrid;VALUE=DATE-TIME:20131111T180000
DTEND;TZID=Europe/Madrid;VALUE=DATE-TIME:20131111T190000
DTSTAMP;VALUE=DATE-TIME:20260419T222825Z
UID:5fbaca739fa1bf87a2df7fa8bdff94a4
CREATED;VALUE=DATE-TIME:20131111T000000Z
CATEGORIES:Cursos,Agenda cultural
LOCATION:Centre Cívic El Gorg - Riera del Gorg, s/n
ORGANIZER:Associació de Gent Gran Els Xurravins
COMMENT:Durada: Del 7 d'octubre al 9 de desembre
URL:https://www.svmontalt.cat/document.php?id=7667
END:VEVENT
END:VCALENDAR