BEGIN:VCALENDAR
VERSION:2.0
PRODID:-//Plone.org//NONSGML plone.app.event//EN
X-WR-TIMEZONE:Europe/Madrid
BEGIN:VEVENT
SUMMARY:Curs de teatre per a joves
DTSTART;TZID=Europe/Madrid;VALUE=DATE-TIME:20131218T170000
DTEND;TZID=Europe/Madrid;VALUE=DATE-TIME:20131218T180000
DTSTAMP;VALUE=DATE-TIME:20260420T042534Z
UID:dd58a2d9a00761eebbbe5cc087d3a78f
CREATED;VALUE=DATE-TIME:20131218T000000Z
CATEGORIES:Cursos,Agenda cultural
LOCATION:Centre Cívic El Gorg - Riera del Gorg, s/n
ORGANIZER:Regidoria de Cultura
COMMENT:Preu: 20 euros/mes
Durada: Del 2 d'octubre al 25 de juny
DESCRIPTION:Impartit per Rosa Pou
URL:https://www.svmontalt.cat/document.php?id=7690
END:VEVENT
END:VCALENDAR