BEGIN:VCALENDAR
VERSION:2.0
PRODID:-//Plone.org//NONSGML plone.app.event//EN
X-WR-TIMEZONE:Europe/Madrid
BEGIN:VEVENT
SUMMARY:Taller de manualitats per a infants
DTSTART;TZID=Europe/Madrid;VALUE=DATE-TIME:20131219T173000
DTEND;TZID=Europe/Madrid;VALUE=DATE-TIME:20131219T183000
DTSTAMP;VALUE=DATE-TIME:20260419T140814Z
UID:7c7c6b7fe5a8b95b5136d3f3e9caa287
CREATED;VALUE=DATE-TIME:20131219T000000Z
CATEGORIES:Cursos,Agenda cultural
LOCATION:Centre Cívic El Gorg - Riera del Gorg, s/n
ORGANIZER:Regidoria de Cultura
COMMENT:Preu: 20 euros / mes (material inclòs)
Durada: Del 3 d'octubre al 31 de juliol
URL:https://www.svmontalt.cat/document.php?id=7713
END:VEVENT
END:VCALENDAR