BEGIN:VCALENDAR
VERSION:2.0
PRODID:-//Plone.org//NONSGML plone.app.event//EN
X-WR-TIMEZONE:Europe/Madrid
BEGIN:VEVENT
SUMMARY:Round table en anglès
DTSTART;TZID=Europe/Madrid;VALUE=DATE-TIME:20131220T190000
DTEND;TZID=Europe/Madrid;VALUE=DATE-TIME:20131220T200000
DTSTAMP;VALUE=DATE-TIME:20260420T043203Z
UID:47b606c469956e426be35dfbce55944b
CREATED;VALUE=DATE-TIME:20131220T000000Z
LOCATION:Centre Cívic El Gorg - Riera del Gorg, s/n
ORGANIZER:Biblioteca Municipal La Muntala
COMMENT:Preu: Gratuït
DESCRIPTION:A càrrec de Marion Fitzgerald
URL:https://www.svmontalt.cat/document.php?id=7736
END:VEVENT
END:VCALENDAR