BEGIN:VCALENDAR
VERSION:2.0
PRODID:-//Plone.org//NONSGML plone.app.event//EN
X-WR-TIMEZONE:Europe/Madrid
BEGIN:VEVENT
SUMMARY:Trobada Country
DTSTART;TZID=Europe/Madrid;VALUE=DATE-TIME:20131027T110000
DTEND;TZID=Europe/Madrid;VALUE=DATE-TIME:20131027T120000
DTSTAMP;VALUE=DATE-TIME:20260424T114615Z
UID:dc32b087dd3a9b565de6ce69df586fa9
CREATED;VALUE=DATE-TIME:20131027T000000Z
CATEGORIES:Mostra,Agenda cultural
LOCATION:Avinguda Toni Sors - Avinguda Toni Sors, s/n
ORGANIZER:Donactiva
COMMENT:Durada: D'11 a 14h
URL:https://www.svmontalt.cat/document.php?id=7759
END:VEVENT
END:VCALENDAR