BEGIN:VCALENDAR
VERSION:2.0
PRODID:-//Plone.org//NONSGML plone.app.event//EN
X-WR-TIMEZONE:Europe/Madrid
BEGIN:VEVENT
SUMMARY:Fira solidària: "1 gest, una acció"
DTSTART;TZID=Europe/Madrid;VALUE=DATE-TIME:20131026T100000
DTEND;TZID=Europe/Madrid;VALUE=DATE-TIME:20131026T110000
DTSTAMP;VALUE=DATE-TIME:20260424T114113Z
UID:47df1c446c7e37bdb214969df030c018
CREATED;VALUE=DATE-TIME:20131026T000000Z
LOCATION:Avinguda Toni Sors - Avinguda Toni Sors, s/n
ORGANIZER:PSC de Sant Vicenç de Montalt
COMMENT:Durada: De 10 a 14h
URL:https://www.svmontalt.cat/document.php?id=7760
END:VEVENT
END:VCALENDAR