BEGIN:VCALENDAR
VERSION:2.0
PRODID:-//Plone.org//NONSGML plone.app.event//EN
X-WR-TIMEZONE:Europe/Madrid
BEGIN:VEVENT
SUMMARY:Botifarrada popular
DTSTART;TZID=Europe/Madrid;VALUE=DATE-TIME:20131026T113000
DTEND;TZID=Europe/Madrid;VALUE=DATE-TIME:20131026T123000
DTSTAMP;VALUE=DATE-TIME:20260424T114159Z
UID:a55b87472b44f53b4928a4152a89cb34
CREATED;VALUE=DATE-TIME:20131026T000000Z
LOCATION:Avinguda Toni Sors - Avinguda Toni Sors, s/n
ORGANIZER:PP Sant Vicenç de Montalt
COMMENT:Preu: Gratuït
Durada: D'11.30 a 13.30h
DESCRIPTION:Amb l'Alícia Sánchez Camacho
URL:https://www.svmontalt.cat/document.php?id=7761
END:VEVENT
END:VCALENDAR