BEGIN:VCALENDAR
VERSION:2.0
PRODID:-//Plone.org//NONSGML plone.app.event//EN
X-WR-TIMEZONE:Europe/Madrid
BEGIN:VEVENT
SUMMARY:Presentació dels equips del C.F. Santvicentí
DTSTART;TZID=Europe/Madrid;VALUE=DATE-TIME:20131027T153000
DTEND;TZID=Europe/Madrid;VALUE=DATE-TIME:20131027T163000
DTSTAMP;VALUE=DATE-TIME:20260424T114707Z
UID:db5eccb2c516a94d8a0560f10f2314d4
CREATED;VALUE=DATE-TIME:20131027T000000Z
LOCATION:Camp Municipal de Futbol - Avinguda Toni Sors, s/n
DESCRIPTION:Temporada 2013-2014
URL:https://www.svmontalt.cat/document.php?id=7762
END:VEVENT
END:VCALENDAR