BEGIN:VCALENDAR
VERSION:2.0
PRODID:-//Plone.org//NONSGML plone.app.event//EN
X-WR-TIMEZONE:Europe/Madrid
BEGIN:VEVENT
SUMMARY:Xerrada: Estratègies de motivació
DTSTART;TZID=Europe/Madrid;VALUE=DATE-TIME:20131213T200000
DTEND;TZID=Europe/Madrid;VALUE=DATE-TIME:20131213T210000
DTSTAMP;VALUE=DATE-TIME:20260422T111033Z
UID:ec5697e57e1909095ad81429677457cc
CREATED;VALUE=DATE-TIME:20131213T000000Z
CATEGORIES:Conferència,Agenda cultural
LOCATION:Centre Cívic El Gorg - Riera del Gorg, s/n
ORGANIZER:Regidoria d'Esports
COMMENT:Preu: Gratuït
DESCRIPTION:Presentació del llibre: La felicidad no es el objetivo
URL:https://www.svmontalt.cat/document.php?id=7837
END:VEVENT
END:VCALENDAR