BEGIN:VCALENDAR
VERSION:2.0
PRODID:-//Plone.org//NONSGML plone.app.event//EN
X-WR-TIMEZONE:Europe/Madrid
BEGIN:VEVENT
SUMMARY:Pessebre de Sant Vicenç 2013
DTSTART;TZID=Europe/Madrid;VALUE=DATE-TIME:20140126T120000
DTEND;TZID=Europe/Madrid;VALUE=DATE-TIME:20140126T130000
DTSTAMP;VALUE=DATE-TIME:20260421T020150Z
UID:1b1fec1dac48fe745bccfb8eed579aff
CREATED;VALUE=DATE-TIME:20140126T000000Z
CATEGORIES:Exposició,Agenda cultural
LOCATION:Casal Parroquial El Delme - C/ Sant Antoni
ORGANIZER:Amics dels Pessebres de Sant Vicenç de Montalt amb la col·laboració de la Regidoria de Cultura i la Parròquia de Sant Vicenç
COMMENT:Preu: Gratuït
Durada: Del 15 de desembre al 26 de gener
DESCRIPTION:Un camí de Sant Vicenç a Betlem - Pessebre del Tricentenari 1714-2014
URL:https://www.svmontalt.cat/document.php?id=7844
END:VEVENT
END:VCALENDAR