BEGIN:VCALENDAR
VERSION:2.0
PRODID:-//Plone.org//NONSGML plone.app.event//EN
X-WR-TIMEZONE:Europe/Madrid
BEGIN:VEVENT
SUMMARY:III Torneig solidari de futbol 7
DTSTART;TZID=Europe/Madrid;VALUE=DATE-TIME:20131219T093000
DTEND;TZID=Europe/Madrid;VALUE=DATE-TIME:20131219T103000
DTSTAMP;VALUE=DATE-TIME:20260419T175323Z
UID:e4a5862a1e6c645890de2176e3b50218
CREATED;VALUE=DATE-TIME:20131219T000000Z
CATEGORIES:Esports
LOCATION:Camp Municipal de Futbol - Avinguda Toni Sors, s/n
ORGANIZER:Policia Local de Sant Vicenç de Montalt amb la col·laboració de la Regidoria de Benestar Social i  la Creu Roja
COMMENT:Preu: Gratuït
URL:https://www.svmontalt.cat/document.php?id=7845
END:VEVENT
END:VCALENDAR