BEGIN:VCALENDAR
VERSION:2.0
PRODID:-//Plone.org//NONSGML plone.app.event//EN
X-WR-TIMEZONE:Europe/Madrid
BEGIN:VEVENT
SUMMARY:Taller de cuina japonesa
DTSTART;TZID=Europe/Madrid;VALUE=DATE-TIME:20131223T100000
DTEND;TZID=Europe/Madrid;VALUE=DATE-TIME:20131223T110000
DTSTAMP;VALUE=DATE-TIME:20260419T183003Z
UID:69cebd3ab00956083c2340dcc37f2030
CREATED;VALUE=DATE-TIME:20131223T000000Z
LOCATION:Seu d'Entitats Esportives - Avinguda Toni Sors, s/n
ORGANIZER:Espai Jove "El Cau"
COMMENT:Preu: Gratuït
Durada: A les 12 i les 18h
DESCRIPTION:A càrrec de la xef Mihoko Sugita
URL:https://www.svmontalt.cat/document.php?id=7849
END:VEVENT
END:VCALENDAR