BEGIN:VCALENDAR
VERSION:2.0
PRODID:-//Plone.org//NONSGML plone.app.event//EN
X-WR-TIMEZONE:Europe/Madrid
BEGIN:VEVENT
SUMMARY:L'Escola Sot del Camp li canta al nadal
DTSTART;TZID=Europe/Madrid;VALUE=DATE-TIME:20131220T100000
DTEND;TZID=Europe/Madrid;VALUE=DATE-TIME:20131220T110000
DTSTAMP;VALUE=DATE-TIME:20260420T042727Z
UID:124a373650619fac57c6d1e27ea31523
CREATED;VALUE=DATE-TIME:20131220T000000Z
CATEGORIES:Festa,Agenda cultural
LOCATION:Pavelló Municipal Toni Sors - Avinguda Toni Sors, s/n
ORGANIZER:Escola Sot del camp
COMMENT:Preu: Gratuït
URL:https://www.svmontalt.cat/document.php?id=7860
END:VEVENT
END:VCALENDAR